BEGIN:VCALENDAR
VERSION:2.0
PRODID:-//Ecclesiology &amp; Ethnography Network
CALSCALE:GREGORIAN
METHOD:PUBLISH
X-WR-CALNAME:Ecclesiology &amp; Ethnography Network
X-ORIGINAL-URL:https://www.ecclesiologyandethnography.net/event/2019-world-christianity-conference-princeton-theological-seminary/
X-WR-CALDESC:2019 World Christianity Conference &#8211; Princeton Theological Seminary
BEGIN:VEVENT
DTSTART:20190315T000000
DTEND:20190318T000000
SUMMARY:2019 World Christianity Conference &#8211; Princeton Theological Seminary
DESCRIPTION:The conference seeks to explore and reflect on past practices and new directions, drawing on case studies representative of the currents and eddies of Christianity in the majority world and beyond.
LOCATION:Princeton Theological Seminary, USA
END:VEVENT
END:VCALENDAR
