BEGIN:VCALENDAR
VERSION:2.0
PRODID:-//Ecclesiology &amp; Ethnography Network
CALSCALE:GREGORIAN
METHOD:PUBLISH
X-WR-CALNAME:Ecclesiology &amp; Ethnography Network
X-ORIGINAL-URL:https://www.ecclesiologyandethnography.net/event/durham-conference-september-2019/
X-WR-CALDESC:Durham Conference September 2019 (updated Sept. 18)
BEGIN:VEVENT
DTSTART:20190917T000000
DTEND:20190919T000000
SUMMARY:Durham Conference September 2019 (updated Sept. 18)
DESCRIPTION:The Durham Conference is the annual conference for the E&E network bringing together scholars working on ethnographic approaches to ecclesiology.
LOCATION:St John's College, 3 South Bailey, Durham, UK
END:VEVENT
END:VCALENDAR
